BEGIN:VCALENDAR
VERSION:2.0
PRODID:-// - ECPv6.15.20//NONSGML v1.0//EN
CALSCALE:GREGORIAN
METHOD:PUBLISH
X-ORIGINAL-URL:https://neu.realschulehochdahl.de
X-WR-CALDESC:Veranstaltungen für 
REFRESH-INTERVAL;VALUE=DURATION:PT1H
X-Robots-Tag:noindex
X-PUBLISHED-TTL:PT1H
BEGIN:VTIMEZONE
TZID:Europe/Berlin
BEGIN:DAYLIGHT
TZOFFSETFROM:+0100
TZOFFSETTO:+0200
TZNAME:CEST
DTSTART:20250330T010000
END:DAYLIGHT
BEGIN:STANDARD
TZOFFSETFROM:+0200
TZOFFSETTO:+0100
TZNAME:CET
DTSTART:20251026T010000
END:STANDARD
BEGIN:DAYLIGHT
TZOFFSETFROM:+0100
TZOFFSETTO:+0200
TZNAME:CEST
DTSTART:20260329T010000
END:DAYLIGHT
BEGIN:STANDARD
TZOFFSETFROM:+0200
TZOFFSETTO:+0100
TZNAME:CET
DTSTART:20261025T010000
END:STANDARD
BEGIN:DAYLIGHT
TZOFFSETFROM:+0100
TZOFFSETTO:+0200
TZNAME:CEST
DTSTART:20270328T010000
END:DAYLIGHT
BEGIN:STANDARD
TZOFFSETFROM:+0200
TZOFFSETTO:+0100
TZNAME:CET
DTSTART:20271031T010000
END:STANDARD
END:VTIMEZONE
BEGIN:VEVENT
DTSTART;VALUE=DATE:20260107
DTEND;VALUE=DATE:20260108
DTSTAMP:20260423T183315
CREATED:20251226T140037Z
LAST-MODIFIED:20251226T140108Z
UID:181-1767744000-1767830399@neu.realschulehochdahl.de
SUMMARY:Erster Schultag
DESCRIPTION:
URL:https://neu.realschulehochdahl.de/event/silvester/
END:VEVENT
BEGIN:VEVENT
DTSTART;VALUE=DATE:20260112
DTEND;VALUE=DATE:20260113
DTSTAMP:20260423T183315
CREATED:20251226T140504Z
LAST-MODIFIED:20251226T140504Z
UID:188-1768176000-1768262399@neu.realschulehochdahl.de
SUMMARY:Potenzial Analyse 8a
DESCRIPTION:
URL:https://neu.realschulehochdahl.de/event/potenzial-analyse-8a/
END:VEVENT
BEGIN:VEVENT
DTSTART;VALUE=DATE:20260113
DTEND;VALUE=DATE:20260114
DTSTAMP:20260423T183315
CREATED:20251226T140535Z
LAST-MODIFIED:20251226T140535Z
UID:190-1768262400-1768348799@neu.realschulehochdahl.de
SUMMARY:Potenzial Analyse 8b
DESCRIPTION:
URL:https://neu.realschulehochdahl.de/event/potenzial-analyse-8b/
END:VEVENT
BEGIN:VEVENT
DTSTART;TZID=Europe/Berlin:20260117T100000
DTEND;TZID=Europe/Berlin:20260117T130000
DTSTAMP:20260423T183315
CREATED:20251226T140305Z
LAST-MODIFIED:20251226T140305Z
UID:186-1768644000-1768654800@neu.realschulehochdahl.de
SUMMARY:Tag der offenen Tür
DESCRIPTION:
URL:https://neu.realschulehochdahl.de/event/tag-der-offenen-tuer/
END:VEVENT
BEGIN:VEVENT
DTSTART;VALUE=DATE:20260119
DTEND;VALUE=DATE:20260207
DTSTAMP:20260423T183315
CREATED:20260202T195336Z
LAST-MODIFIED:20260202T195336Z
UID:475-1768780800-1770422399@neu.realschulehochdahl.de
SUMMARY:Schülerbetriebspraktikum
DESCRIPTION:
URL:https://neu.realschulehochdahl.de/event/schuelerbetriebspraktikum/
END:VEVENT
END:VCALENDAR