BEGIN:VCALENDAR
VERSION:2.0
PRODID:-// - ECPv6.15.20//NONSGML v1.0//EN
CALSCALE:GREGORIAN
METHOD:PUBLISH
X-ORIGINAL-URL:https://neu.realschulehochdahl.de
X-WR-CALDESC:Veranstaltungen für 
REFRESH-INTERVAL;VALUE=DURATION:PT1H
X-Robots-Tag:noindex
X-PUBLISHED-TTL:PT1H
BEGIN:VTIMEZONE
TZID:Europe/Berlin
BEGIN:DAYLIGHT
TZOFFSETFROM:+0100
TZOFFSETTO:+0200
TZNAME:CEST
DTSTART:20240331T010000
END:DAYLIGHT
BEGIN:STANDARD
TZOFFSETFROM:+0200
TZOFFSETTO:+0100
TZNAME:CET
DTSTART:20241027T010000
END:STANDARD
BEGIN:DAYLIGHT
TZOFFSETFROM:+0100
TZOFFSETTO:+0200
TZNAME:CEST
DTSTART:20250330T010000
END:DAYLIGHT
BEGIN:STANDARD
TZOFFSETFROM:+0200
TZOFFSETTO:+0100
TZNAME:CET
DTSTART:20251026T010000
END:STANDARD
BEGIN:DAYLIGHT
TZOFFSETFROM:+0100
TZOFFSETTO:+0200
TZNAME:CEST
DTSTART:20260329T010000
END:DAYLIGHT
BEGIN:STANDARD
TZOFFSETFROM:+0200
TZOFFSETTO:+0100
TZNAME:CET
DTSTART:20261025T010000
END:STANDARD
BEGIN:DAYLIGHT
TZOFFSETFROM:+0100
TZOFFSETTO:+0200
TZNAME:CEST
DTSTART:20270328T010000
END:DAYLIGHT
BEGIN:STANDARD
TZOFFSETFROM:+0200
TZOFFSETTO:+0100
TZNAME:CET
DTSTART:20271031T010000
END:STANDARD
END:VTIMEZONE
BEGIN:VEVENT
DTSTART;VALUE=DATE:20260413
DTEND;VALUE=DATE:20260416
DTSTAMP:20260423T141929
CREATED:20260202T200054Z
LAST-MODIFIED:20260202T200054Z
UID:492-1776038400-1776297599@neu.realschulehochdahl.de
SUMMARY:Klassenfahrt 5er
DESCRIPTION:
URL:https://neu.realschulehochdahl.de/event/klassenfahrt-5er/
END:VEVENT
BEGIN:VEVENT
DTSTART;VALUE=DATE:20260330
DTEND;VALUE=DATE:20260411
DTSTAMP:20260423T141929
CREATED:20260202T200008Z
LAST-MODIFIED:20260202T200008Z
UID:490-1774828800-1775865599@neu.realschulehochdahl.de
SUMMARY:Osterferien
DESCRIPTION:
URL:https://neu.realschulehochdahl.de/event/osterferien/
END:VEVENT
BEGIN:VEVENT
DTSTART;VALUE=DATE:20260310
DTEND;VALUE=DATE:20260311
DTSTAMP:20260423T141929
CREATED:20260202T195850Z
LAST-MODIFIED:20260202T195850Z
UID:488-1773100800-1773187199@neu.realschulehochdahl.de
SUMMARY:Lernstandserhebungen Kl. 8 MATHEMATIK
DESCRIPTION:
URL:https://neu.realschulehochdahl.de/event/lernstandserhebungen-kl-8-mathematik/
END:VEVENT
BEGIN:VEVENT
DTSTART;VALUE=DATE:20260305
DTEND;VALUE=DATE:20260306
DTSTAMP:20260423T141929
CREATED:20260202T195818Z
LAST-MODIFIED:20260202T195818Z
UID:486-1772668800-1772755199@neu.realschulehochdahl.de
SUMMARY:Lernstandserhebungen Kl. 8 ENGLISCH
DESCRIPTION:
URL:https://neu.realschulehochdahl.de/event/lernstandserhebungen-kl-8-englisch/
END:VEVENT
BEGIN:VEVENT
DTSTART;VALUE=DATE:20260303
DTEND;VALUE=DATE:20260304
DTSTAMP:20260423T141929
CREATED:20260202T195741Z
LAST-MODIFIED:20260202T195741Z
UID:484-1772496000-1772582399@neu.realschulehochdahl.de
SUMMARY:Lernstandserhebungen Kl. 8 DEUTSCH
DESCRIPTION:
URL:https://neu.realschulehochdahl.de/event/lernstandserhebungen-kl-8-deutsch/
END:VEVENT
BEGIN:VEVENT
DTSTART;VALUE=DATE:20260216
DTEND;VALUE=DATE:20260217
DTSTAMP:20260423T141929
CREATED:20260202T195644Z
LAST-MODIFIED:20260202T195644Z
UID:482-1771200000-1771286399@neu.realschulehochdahl.de
SUMMARY:Rosenmontag
DESCRIPTION:
URL:https://neu.realschulehochdahl.de/event/rosenmontag/
END:VEVENT
BEGIN:VEVENT
DTSTART;VALUE=DATE:20260213
DTEND;VALUE=DATE:20260214
DTSTAMP:20260423T141929
CREATED:20260202T195612Z
LAST-MODIFIED:20260202T195612Z
UID:480-1770940800-1771027199@neu.realschulehochdahl.de
SUMMARY:Beweglicher Ferientag
DESCRIPTION:
URL:https://neu.realschulehochdahl.de/event/beweglicher-ferientag/
END:VEVENT
BEGIN:VEVENT
DTSTART;VALUE=DATE:20260206
DTEND;VALUE=DATE:20260207
DTSTAMP:20260423T141929
CREATED:20260202T195533Z
LAST-MODIFIED:20260202T195533Z
UID:478-1770336000-1770422399@neu.realschulehochdahl.de
SUMMARY:Halbjahreszeugnisse
DESCRIPTION:
URL:https://neu.realschulehochdahl.de/event/halbjahreszeugnisse/
END:VEVENT
BEGIN:VEVENT
DTSTART;VALUE=DATE:20260119
DTEND;VALUE=DATE:20260207
DTSTAMP:20260423T141929
CREATED:20260202T195336Z
LAST-MODIFIED:20260202T195336Z
UID:475-1768780800-1770422399@neu.realschulehochdahl.de
SUMMARY:Schülerbetriebspraktikum
DESCRIPTION:
URL:https://neu.realschulehochdahl.de/event/schuelerbetriebspraktikum/
END:VEVENT
BEGIN:VEVENT
DTSTART;TZID=Europe/Berlin:20260117T100000
DTEND;TZID=Europe/Berlin:20260117T130000
DTSTAMP:20260423T141929
CREATED:20251226T140305Z
LAST-MODIFIED:20251226T140305Z
UID:186-1768644000-1768654800@neu.realschulehochdahl.de
SUMMARY:Tag der offenen Tür
DESCRIPTION:
URL:https://neu.realschulehochdahl.de/event/tag-der-offenen-tuer/
END:VEVENT
BEGIN:VEVENT
DTSTART;VALUE=DATE:20260113
DTEND;VALUE=DATE:20260114
DTSTAMP:20260423T141929
CREATED:20251226T140535Z
LAST-MODIFIED:20251226T140535Z
UID:190-1768262400-1768348799@neu.realschulehochdahl.de
SUMMARY:Potenzial Analyse 8b
DESCRIPTION:
URL:https://neu.realschulehochdahl.de/event/potenzial-analyse-8b/
END:VEVENT
BEGIN:VEVENT
DTSTART;VALUE=DATE:20260112
DTEND;VALUE=DATE:20260113
DTSTAMP:20260423T141929
CREATED:20251226T140504Z
LAST-MODIFIED:20251226T140504Z
UID:188-1768176000-1768262399@neu.realschulehochdahl.de
SUMMARY:Potenzial Analyse 8a
DESCRIPTION:
URL:https://neu.realschulehochdahl.de/event/potenzial-analyse-8a/
END:VEVENT
BEGIN:VEVENT
DTSTART;VALUE=DATE:20260107
DTEND;VALUE=DATE:20260108
DTSTAMP:20260423T141929
CREATED:20251226T140037Z
LAST-MODIFIED:20251226T140108Z
UID:181-1767744000-1767830399@neu.realschulehochdahl.de
SUMMARY:Erster Schultag
DESCRIPTION:
URL:https://neu.realschulehochdahl.de/event/silvester/
END:VEVENT
BEGIN:VEVENT
DTSTART;VALUE=DATE:20251231
DTEND;VALUE=DATE:20260101
DTSTAMP:20260423T141929
CREATED:20251226T140213Z
LAST-MODIFIED:20251226T140213Z
UID:184-1767139200-1767225599@neu.realschulehochdahl.de
SUMMARY:Silvester
DESCRIPTION:
URL:https://neu.realschulehochdahl.de/event/silvester-2/
END:VEVENT
END:VCALENDAR